BEGIN:VCALENDAR
VERSION:2.0
METHOD:PUBLISH
PRODID:SimpleCalendar
BEGIN:VEVENT
UID:@simplecalendar-OF Weende
CATEGORIES:Dienstplan Aktive
CLASS:PUBLIC
DTSTAMP:20260422T115933Z
CREATED:20260422T115933Z
SUMMARY:Projekt Osterfeuer
DESCRIPTION:Projekt Osterfeuer Feuerwehrhaus /  Ortsbrandmeister
LOCATION:Feuerwehrhaus
TRANSP:OPAQUE
DTSTART:20220418T080000Z
DTEND:20220418T110000Z
END:VEVENT
END:VCALENDAR