BEGIN:VCALENDAR
VERSION:2.0
METHOD:PUBLISH
PRODID:SimpleCalendar
BEGIN:VEVENT
UID:@simplecalendar-OF Weende
CATEGORIES:Altpapiersammlung
CLASS:PUBLIC
DTSTAMP:20260422T102543Z
CREATED:20260422T102543Z
SUMMARY:Altpapiersammlung
DESCRIPTION:Altpapiersammlung Ortsteil Weende /
LOCATION:Ortsteil Weende
TRANSP:OPAQUE
DTSTART:20260307T070000Z
DTEND:20260307T113000Z
END:VEVENT
END:VCALENDAR