BEGIN:VCALENDAR
VERSION:2.0
METHOD:PUBLISH
PRODID:SimpleCalendar
BEGIN:VEVENT
UID:@simplecalendar-OF Weende
CATEGORIES:Dienstplan Aktive
CLASS:PUBLIC
DTSTAMP:20260419T165711Z
CREATED:20260419T165711Z
SUMMARY:Ausbildungsdienst
DESCRIPTION:Ausbildungsdienst Feuerwehrhaus Weende /
LOCATION:Feuerwehrhaus Weende
TRANSP:OPAQUE
DTSTART:20260316T180000Z
DTEND:20260316T210000Z
END:VEVENT
END:VCALENDAR